BEGIN:VCALENDAR
VERSION:2.0
PRODID:-//Verão Arte 2026 - ECPv6.15.20//NONSGML v1.0//EN
CALSCALE:GREGORIAN
METHOD:PUBLISH
X-ORIGINAL-URL:https://2026.veraoarte.com.br
X-WR-CALDESC:Eventos para Verão Arte 2026
REFRESH-INTERVAL;VALUE=DURATION:PT1H
X-Robots-Tag:noindex
X-PUBLISHED-TTL:PT1H
BEGIN:VTIMEZONE
TZID:America/Bahia
BEGIN:STANDARD
TZOFFSETFROM:-0300
TZOFFSETTO:-0300
TZNAME:-03
DTSTART:20250101T000000
END:STANDARD
END:VTIMEZONE
BEGIN:VEVENT
DTSTART;TZID=America/Bahia:20260119T180000
DTEND;TZID=America/Bahia:20260121T210000
DTSTAMP:20260420T003010
CREATED:20260110T050038Z
LAST-MODIFIED:20260114T213552Z
UID:4080-1768845600-1769029200@2026.veraoarte.com.br
SUMMARY:Oficina de Música • A palavra\, a poesia e o ritmo
DESCRIPTION:O M.C. (Mestre de Cerimônias) é um dos quatro elementos da Cultura Hip Hop\, é o elemento que se utiliza da palavra\, da voz\, seja comandando os eventos de Hip Hop\, seja compondo e cantando letras de RAP (Rithm And Poetry)\, fazendo Freestyle (improviso) ou participando de Batalhas de Rima. \nNa oficina Rap e Improvisação vamos explorar todos esses aspectos na prática mas tendo a história e os conceitos do Hip Hop como base. \nMonge é Mc\, Pesquisador da Cultura Hip Hop\, Produtor de Conteúdo e Produtor Cultural. Participou dos grupos Saga Contínua e A Corte\, integrou a Conspiração Subterrânea Crew e a JotaEfe Crew. Lançou dois EPs\, CaminhoDeZion Vol.I e 2Pra1. Fundador da Família de Rua e do Duelo de Mcs. Desde 2011 é MC\, Produtor e Curador do Festival Palco Hip Hop. Criou em 2019 a Batalha Griot\, batalha de mcs temática com foco no conhecimento. \ninstagram.com/monge73_ \n*Inscrições gratuitas até o dia 09 de janeiro \n*No dia 21 de janeiro (quarta)\, às 20h30\, o público é convidado a acompanhar uma aula aberta\, com duração de 1h e entrada franca.
URL:https://2026.veraoarte.com.br/evento/a-palavra-a-poesia-e-o-ritmo/
LOCATION:Funarte MG\, Rua Januária 68\, Centro\, Belo Horizonte\, Minas Gerais\, 30110-055\, Brazil
CATEGORIES:Música
ATTACH;FMTTYPE=image/jpeg:https://2026.veraoarte.com.br/wp-content/uploads/2026/01/01-Oficina-Musica-Monge-MC-Cred.-Pablo-Bernardo-Pequeno.jpg
END:VEVENT
BEGIN:VEVENT
DTSTART;VALUE=DATE:20260120
DTEND;VALUE=DATE:20260401
DTSTAMP:20260420T003010
CREATED:20260110T052611Z
LAST-MODIFIED:20260115T023123Z
UID:4099-1768867200-1775001599@2026.veraoarte.com.br
SUMMARY:Exposição Arte\, cultura\, natureza: clima e crise
DESCRIPTION:SINOPSE:  \nÉ o primeiro evento da programação que se iniciou em dezembro de 2025 com mostra coletiva no iPMB\, reunindo 7 artistas visuais mineiros de diferentes gerações e linguagens\, que abordam a questão da devastação ambiental. Louise Ganz\, Celso Renato\, Roberto Vieira\, Pedro Motta\, Leandro Gabriel\, Daniel Moreira e Davi de Jesus do Nascimento são reunidos a partir do conceito de Antropoceno. Segue exposição\, em 2026\, no Viaduto das Artes e encontro na Academia Mineira de Letras\, reunindo um artista\, um filósofo e representante de movimentos sociais. \nFICHA TÉCNICA:  \nPromoção: Instituto Pedro Moraleida Bernardes\, Academia Mineira de Letras e Viaduto das Artes \nCurador da mostra: Augusto Nunes Filho \nMontagem: Daniel Moreira \nProdução: Luiz Bernardes e Nilcéa Moraleida. Inês Rabelo\, pela Academia Mineira de Letras \nArtistas: Louise Ganz\, Celso Renato\, Roberto Vieira\, Pedro Motta\, Leandro Gabriel\, Daniel Moreira e Davi de Jesus do Nascimento \nInstagram: @institutopedromoraleida
URL:https://2026.veraoarte.com.br/evento/arte-cultura-natureza-clima-e-crise/
CATEGORIES:Artes Visuais
ATTACH;FMTTYPE=image/jpeg:https://2026.veraoarte.com.br/wp-content/uploads/2026/01/Louise-Ganz_Murundu_2023_foto-Daniel-Mansur-Medio.jpg
END:VEVENT
BEGIN:VEVENT
DTSTART;VALUE=DATE:20260122
DTEND;VALUE=DATE:20260201
DTSTAMP:20260420T003010
CREATED:20260110T050542Z
LAST-MODIFIED:20260115T004958Z
UID:4082-1769040000-1769903999@2026.veraoarte.com.br
SUMMARY:Perspectiva Marcos Pimentel
DESCRIPTION:A mostra “Perspectiva Marcos Pimentel” reúne curtas e longas do cineasta mineiro\, em atividade desde o ano 2000. Presença constante na Mostra de Cinema do VAC\, ele agora ganha uma perspectiva dedicada\, que apresenta diferentes momentos de sua produção\, passando pelo documentário\, pela ficção e pela experimentação. O público também poderá conferir seu mais recente lançamento\, o longa “O Silêncio das Ostras”. Além disso\, o diretor estará presente para um bate-papo mediado pelo também cineasta Sávio Leite. \nLocais e datas\n\nCine Humberto Mauro – Palácio das Artes \n22/01 • quinta • 18h: Século | Sopro\n23/01 • sexta • 18h: Cemitério da memória | Nada com ninguém | Pólis | Taba | A arquitetura do corpo | O chão e o céu\n23/01 • sexta • 20h: Os ossos da saudade\n24/01 • sábado • 18h: A parte do mundo que me pertence\n24/01 • sábado • 20h: O maior espetáculo da terra | Sanã * \n* No dia 24 de janeiro\, após a sessão das 20h\, no Cine Humberto Mauro\, haverá um bate-papo com o diretor Marcos Pimentel\, mediado pelo cineasta Sávio Leite. \nENTRADA FRANCA — 50% dos ingressos online pelo site da Eventim (a partir de 12h no dia da sessão) e 50% na bilheteria\, 30 min antes. \nIngressos \nLimite de 1 ingresso por pessoa. \n  \nCine Santa Tereza\n29/01 • quinta • 19h: Fé e Fúria\n30/01 • sexta • 17h: Amanhã\n30/01 • sexta • 19h: Biografia do Tempo | Ilha | Pele\n31/01 • sábado • 17h: A poeira e o vento | Ruminantes | Família Muniz | Dia de Reis\n31/01 • sábado • 19h: O silêncio das ostras \nENTRADA FRANCA — 50% dos ingressos online pelo site do Sympla (a partir de 07 dias antes da sessão) e 50% na bilheteria\, 30 min antes. \nIngressos \nLimite de 2 ingressos por pessoa. \nProgramação\nA arquitetura do corpo • 2008 • 21 min \nOs bailarinos e suas formas. Suas dores. Seus sonhos… \nAmanhã • 2023 • 108 min \nUm filme sobre os encontros e desencontros da sociedade brasileira contemporânea. \n \n  \n\nA parte do mundo que me pertence • 2017 • 84 min \nDocumentário sobre sonhos e desejos de pessoas comuns. Um olhar íntimo e comprometido com o que somos\, de sol a sol\, por trás das paredes e telhados de uma cidade.\n \n \n  \nA poeira e o vento • 2011 • 18 min \nInterior do estado de Minas Gerais. Uma pequena vila no meio do nada. Isolamento. Montanhas. Silêncio. O homem. A paisagem. O tempo. \n\nBiografia do tempo • 2004 • 8 min \nReflexão sobre a memória\, construída pelo encontro das obras do escritor brasileiro Pedro Nava e do cineasta cubano Santiago Álvarez. \nCemitério da memória • 2023 • 10 min \nDocumentário construído com imagens caseiras sobre a vida cotidiana no século XX. \nDia de Reis • 2018 • 52 min \nAdaptação da peça NOITE DE REIS\, de Shakespeare\, para o sertão mineiro\, na beira do Rio São Francisco. Uma obra que celebra a fé dos grupos de Folia de Reis\, de forte tradição em Minas\, ao mesmo tempo em que relembra Shakespeare e Guimarães Rosa – mestres no contar a busca e os desencontros do amor.\n\nFamília Muniz • 2017 • 17 min \nO cotidiano\, as crenças e celebrações de uma família que\, há mais de 60 anos\, comanda a Guarda OS CIRIACOS\, uma irmandade de Nossa Senhora do Rosário. No quintal de casa\, eles preservam a religiosidade e tradições da cultura negra. Uma história de fé\, amor e Congado. \n\nFé e fúria • 2019 • 103 min \nDocumentário que aborda os conflitos religiosos existentes em favelas e subúrbios do Rio de Janeiro e de Belo Horizonte\, revelando como religião e poder caminham juntos nas periferias das grandes cidades brasileiras e alimentam a crescente onda conservadora que paira sobre o país. \n \n  \nIlha • 2004 • 9 min \nDocumentário sobre as possíveis relações entre a memória e o fato de se viver rodeado de água por todas as partes. \n\nNada com ninguém • 2003 • 14 min \nDocumentário sobre um velho que vive em uma montanha isolado de qualquer contato com o mundo exterior. Uma reflexão sobre o tempo e o silêncio. \nO chão e o céu • 2004 • 26 min \nDocumentário sobre um garoto que quer se tornar um boxeador famoso. Aos 10 anos de idade\, Roylan está diante da competição que pode concretizar seus sonhos de um dia se tornar um grande campeão.\n\nO maior espetáculo da terra • 2005 • 15 min \nUm documentário sobre um circo na corda bamba. \n\nO silêncio das ostras • 2024 • 129 min \nA vida de uma menina que nasceu em uma vila de operários de uma mina e tem que aprender a lidar com as sucessivas perdas que a vida lhe reservou. Depois de perder todos os seus mundos\, Kaylane insiste em sobreviver e resistir. Um filme sobre crescer e sonhar em meio à poeira\, à lama e ao silêncio. \n \n  \n  \nOs ossos da saudade • 2021 • 107 min \nUm filme sobre a ausência\, narrado a partir das vivências de pessoas que experimentam sentimentos de falta e distância\, espalhados por Brasil\, Portugal\, Angola\, Moçambique e Cabo Verde. Uma viagem pelos territórios da memória\, da representação e do pertencimento. \n \n  \n\nPele • 2021 • 75 min \nAs narrativas urgentes das ruas que expressam as subjetividades dos mais variados discursos visuais que “vestem” as cidades brasileiras. \n \n  \n\nPólis • 2009 • 22 min \nUm dia qualquer\, uma cidade comum. O horror e o sublime do urbano em constante \ntransformação\, numa era onde não há nada acabado\, definitivo. Construção e destruição\, sístole e diástole expressas na poética da pólis contemporânea. \n\nRuminantes • 2005 • 20 min \nAs vacas\, o homem e o tempo.\n\n \nSanã • 2013 • 18 min \nNo interior do estado do Maranhão\, um menino e suas buscas pela imensidão da paisagem. \n\nSéculo • 2011 • 11 min  \nConosco\, o amor. Entre nós\, o tempo. \n  \nSopro • 2013 • 73 min \nDocumentário sobre a existência humana e os mistérios da vida e da morte\, mostrados no cotidiano de uma pequena vila rural no meio do nada\, no interior de Minas Gerais\, onde algumas famílias vivem\, há anos\, isoladas de maiores contatos com o mundo exterior. \n \n  \n  \nTaba • 2010 • 16 min \nSobre os escombros e destroços das cidades contemporâneas\, os novos guerreiros \nurbanos improvisam diariamente por ruas e ruínas.Um documentário que desnuda os contrastes e contradições que a vida na cidade nos reserva. \nCLASSIFICAÇÃO • 16 anos
URL:https://2026.veraoarte.com.br/evento/perspectiva-marcos-pimentel/
CATEGORIES:Cinema
ATTACH;FMTTYPE=image/png:https://2026.veraoarte.com.br/wp-content/uploads/2026/01/o-silencio-das-ostras.png
END:VEVENT
BEGIN:VEVENT
DTSTART;TZID=America/Bahia:20260122T200000
DTEND;TZID=America/Bahia:20260122T200000
DTSTAMP:20260420T003010
CREATED:20260110T051011Z
LAST-MODIFIED:20260115T022655Z
UID:4084-1769112000-1769112000@2026.veraoarte.com.br
SUMMARY:Sistema K • Dir. Renaud Barret • França • Documentário • 2018 • 94 min
DESCRIPTION:“Sistema K” como Kinshasa. No meio do indescritível caos social e político\, uma cena contemporânea efervescente criada a partir do nada\, grita sua ira e sonha com o reconhecimento. Apesar da ameaça das autoridades e das dificuldades pessoais dos artistas\, o movimento invade a rua e nada mais vai interrompê-lo! \nIngressos \nENTRADA FRANCA — 50% dos ingressos online pelo site da Eventim (a partir de 12h no dia da sessão) e 50% na bilheteria\, 30 min antes. \nLimite de 1 ingresso por pessoa. \n \n 
URL:https://2026.veraoarte.com.br/evento/sistema-k-dir-renaud-barret-franca-documentario-2018-94-min/
LOCATION:Cine Humberto Mauro – Palácio das Artes\, Avenida Afonso Pena\, 1.537 – Centro\, Belo Horizonte\, Minas Gerais\, 30130-004\, Brasil
CATEGORIES:Cinema
ATTACH;FMTTYPE=image/png:https://2026.veraoarte.com.br/wp-content/uploads/2026/01/Sistema-K-scaled.png
END:VEVENT
BEGIN:VEVENT
DTSTART;TZID=America/Bahia:20260126T140000
DTEND;TZID=America/Bahia:20260128T170000
DTSTAMP:20260420T003010
CREATED:20260110T051655Z
LAST-MODIFIED:20260119T174959Z
UID:4091-1769436000-1769619600@2026.veraoarte.com.br
SUMMARY:Oficina de Dança • Compartilhando práticas abertas: 3 ou 4 exercícios para estremecer junto
DESCRIPTION:Volmir Cordeiro propõe uma oficina dedicada a seus princípios de criação: a expressividade do rosto e do olhar\, a urgência de existir para o outro\, a potência que nasce dessa relação e a profusão de palavras e imaginários. \nA proposta é praticar danças-metamorfoses\, mudar de direção sem aviso e cultivar um movimento coletivo em fluxo contínuo\, onde criação e conversa se misturam como modos de escuta\, presença e invenção. \nDançarino\, coreógrafo e doutor em dança pela Universidade Paris VIII (França)\, Volmir Cordeiro desenvolve seu trabalho entre criação\, pesquisa e prática pedagógica em diferentes países. Céu\, Rua\, Calçada\, Abrigo estão entre suas obras\, que abrangem solos\, criações in situ e peças para grupos. É autor de Ex-Corpo (Ed.CND\, 2019)\, livro dedicado às figuras da marginalidade na dança contemporânea e à relação entre arte e pesquisa. Sua companhia\, Donna Volcan\, segue acompanhando sua investigação sobre modos de presença\, movimento e convivência na cena contemporânea. \ninstagram.com/volmircordeiro \n  \n*Inscrições gratuitas até o dia 16 de janeiro \n**No dia 28 de janeiro (quarta)\, às 17h\, o público é convidado a acompanhar uma aula aberta\, com duração de 1h e entrada franca.
URL:https://2026.veraoarte.com.br/evento/compartilhando-praticas-abertas-com-volmir-cordeiro-3-ou-4-exercicios-para-estremecer-junto/
LOCATION:Funarte MG\, Rua Januária 68\, Centro\, Belo Horizonte\, Minas Gerais\, 30110-055\, Brazil
CATEGORIES:Dança
ATTACH;FMTTYPE=image/jpeg:https://2026.veraoarte.com.br/wp-content/uploads/2026/01/03-Oficina-Danca-Volmir-Cordeiro-Cred.-Didier-Olivre-Pequeno.jpg
END:VEVENT
BEGIN:VEVENT
DTSTART;TZID=America/Bahia:20260126T180000
DTEND;TZID=America/Bahia:20260128T210000
DTSTAMP:20260420T003010
CREATED:20260110T051439Z
LAST-MODIFIED:20260119T174940Z
UID:4089-1769450400-1769634000@2026.veraoarte.com.br
SUMMARY:Oficina de Literatura • SE PÁ LAVRA – exercícios de escrita
DESCRIPTION:A ideia é experimentar exercícios variados de escrita\, explorando as possibilidades de cada integrante\, suas chances de se atrever e jogar com as letras\, pensando também o diálogo da palavra com outras artes – sem medo de arriscar nem de errar. \nMarta Neves é escritora\, tendo publicado recentemente o livro de contos “Filha\, sobrinha\, mulher\, cadela mesmo”\, além de ser artista plástica\, trabalhando com mídias diversas na confluência entre imagem e texto. \ninstagram.com/nevesmarta \n*Inscrições gratuitas até o dia 16 de janeiro \n**No dia 28 de janeiro (quarta)\, às 20h30\, o público é convidado a acompanhar uma aula aberta\, com duração de 1h e entrada franca.
URL:https://2026.veraoarte.com.br/evento/se-pa-lavra-exercicios-de-escrita/
LOCATION:Funarte MG\, Rua Januária 68\, Centro\, Belo Horizonte\, Minas Gerais\, 30110-055\, Brazil
CATEGORIES:Literatura
ATTACH;FMTTYPE=image/jpeg:https://2026.veraoarte.com.br/wp-content/uploads/2026/01/02-Oficina-Literatura-Marta-Neves-Cred.-Marta-Neves.jpg
END:VEVENT
BEGIN:VEVENT
DTSTART;TZID=America/Bahia:20260127T190000
DTEND;TZID=America/Bahia:20260127T200000
DTSTAMP:20260420T003010
CREATED:20260110T051924Z
LAST-MODIFIED:20260114T214101Z
UID:4093-1769540400-1769544000@2026.veraoarte.com.br
SUMMARY:Terça da Dança com Volmir Cordeiro
DESCRIPTION:SINOPSE:  \nEm parceria com o VAC – Verão Arte Contemporânea\, o Terça da Dança recebe o artista e pesquisador Volmir Cordeiro para uma programação especial com oficina\, bate-papo e aula aberta. A ação promove troca de experiências\, reflexão e diálogo entre criação artística\, formação e dança contemporânea. \nFICHA TÉCNICA:  \nO Terça da Dança apresenta artistas independentes e grupos profissionais em uma programação contínua de apresentações e ações formativas. Desenvolvido pelo CRDançaBH\, espaço de apoio à comunidade da dança em BH\, o projeto acontece às terças\, às 19h\, promovendo diálogo com a cidade e fortalecendo a dança. \nInstagram:  \n@volmircordeiro  \n@crdancabh @fmc  \n@teatromarilia  @circuitomunicipaldecultura
URL:https://2026.veraoarte.com.br/evento/terca-da-danca-com-volmir-cordeiro/
LOCATION:Teatro Marília\, Av. Prof. Alfredo Balena\, 586 - Santa Efigênia\, Belo Horizonte\, Minas Gerais\, Brasil
CATEGORIES:Dança
ATTACH;FMTTYPE=image/jpeg:https://2026.veraoarte.com.br/wp-content/uploads/2026/01/01-Oficina-Danca-Volmir-Cordeiro-Cred.-Franck-Alix.jpg
END:VEVENT
BEGIN:VEVENT
DTSTART;TZID=America/Bahia:20260128T000000
DTEND;TZID=America/Bahia:20260129T235900
DTSTAMP:20260420T003010
CREATED:20260110T052156Z
LAST-MODIFIED:20260114T214219Z
UID:4095-1769558400-1769731140@2026.veraoarte.com.br
SUMMARY:Mostra de filmes da coleção Portrait CN D
DESCRIPTION:Portrait CN D – Filmes com extratos das obras das coreógrafas: \n\nMaguy Marin ou comment dire  • Maguy Marin — ou como dizer • 2016 • 32 min\n\nMaguy Marin não dança apenas com os corpos. Ela dança com os sons\, as onomatopeias\, as palavras\, as frases\, as línguas estrangeiras\, a língua de maneira geral. Desde seus primeiros espetáculos\, a palavra tem sido não apenas uma matéria\, mas também um dos motores fundamentais do movimento\, uma espécie de regra rítmica mais ou menos oculta\, como evidenciado pelo famoso trecho de Beckett “Acabou\, está acabado\, vai acabar\, talvez acabe”\, que oferece uma célula rítmica às composições de May B. Entre os simples “ah” assustados e os “oh” surpresos (Ramdam)\, que impulsionam os dançarinos\, e as frases em latim de Lucrécio que os imobilizam (Turba)\, há\, de fato – e Maguy Marin o comprova de maneira exultante –\, cem maneiras de utilizar a linguagem. \nRamdam (1995)\, direção: Luc Riolon\, 1997\nMay B\, direção: Luc Riolon et Charles Picq\, 1981\nBabel Babel\, direção: Olivier Morel\, Ariane Le Couteur\, Hugues de Rosière\, 1982\nAujourd’hui peut-être (Hoje Talvez)\, direção: Luc Riolon\, 1996\nHa ! Ha !\, direção: Charles Picq\, 2006\nPour ainsi dire (Por assim dizer)\, direção: Luc Riolon\, 1999\nWaterzooï (1993)\, direção: Luc Riolon\, 1994\nQuoi qu’il en soit (Seja como for)\, direção: Luc Riolon\, 1999\nNocturnes (Noturnos)\, concepção: Maguy Marin et Denis Mariotte\, direção: David Mambouch\, 2012\nDescription d’un combat (Descrição de um combate)\, direção: Charles Picq\, 2009\nTurba\, concepção: Maguy Marin e Denis Mariotte\, direção: Charles Picq\, 2007\nCom a autorização de Maguy Marin\, Cie Maguy Marin\, Luc Riolon\, 24 Images\,\nMaison de la Danse\, L’envol Productions. \n\nSolitude(s) de Mathilde Monnier • 2017 • 34 min \n\nA dança de Mathilde Monnier é marcada pelo tema da solidão. Ainda que em seus espetáculos muitos dançarinos ocupem a cena\, cada um deles se destaca por sua singularidade e pela maneira que encontram seu espaço dentro do coletivo e individualmente. Em Tempo 76\, um uníssono dá ritmo ao espetáculo\, regulado pelo metrônomo da música de Ligeti. Cada dançarino encarna simultaneamente um corpo comum e um corpo singular. Em Déroutes (Desvios)\, os intérpretes traçam percursos individuais em um mesmo espaço cênico\, encontrando-se ou cruzando-se ao acaso de seus passos. Les Lieux de là (Os Lugares de lá)\, também conta\, à sua maneira\, a história da dispersão de uma comunidade em permanente reconfiguração. Duos e trios – figuras do vínculo – são frequentes na gramática de Mathilde Monnier\, mas as danças solitárias predominam: solos propriamente ditos ou “solos em grupo” (como as errâncias rock de Publique)\, nos quais cada artista se deixa conduzir por seu próprio movimento e por sua própria deriva. \nSoapéra\, direção: Karim Zeriahen\, 2010\nLes Lieux de là (Os lugares de lá)\, direção: Valérie Urréa\, 1998\nPour Antigone (Para Antígona)\, direção: Valérie Urréa\, 1993\nTempo 76\, direção: Valérie Urréa\, 2007\nPublique (Público)\, direção: Valérie Urréa\, 2004\nPavlova 3’23’’\, direção: Karim Zeriahen\, 2009\nChinoiseries\, direção: Valérie Urréa\, 1991\nMM in Motion (MM em movimento)\, direção: Vivian Ostrovsky\, 1992\n2008 vallée\, direção: Valérie Urréa\, 2006\nDéroutes (Desvios)\, direção: Valérie Urréa\, 2002\nCom a autorização de Mathilde Monnier\, Association MM\, Dominique Figarella\,\nPhilippe Katerine\, Wisdom Films\, Artline Films\, On The Fly Productions. \n\nAsha Thomas\, de l’énergie • Asha Thomas\, Pura energia • 2020 • 15 min \n\nNatural de Atlanta\, Asha Thomas dançou (como dançarina principal) na companhia Alvin Ailey antes de se mudar para a França\, em 2007. Desde então\, colaborou com diversos coreógrafos\, entre eles Salia Sanou\, Boris Charmatz\, Alban Richard\, Olivia Grandville\, Raphaëlle Delaunay\, Tatiana Julien e Philippe Ménard. Desde 2010\, desenvolve suas próprias coreografias. Mas ela não precisava ter se tornado coreógrafa para que sua marca autoral fosse perceptível. Atuando nos espetáculos de outros artistas\, ela carrega consigo menos uma gestualidade – que viria a aprofundar em suas próprias obras –\, mas um tipo de energia explosiva-fixa\, certamente alimentada por meio da sua proximidade com formas de dança mais populares\, menos normatizadas pela ideia de espetáculo do que pela noção de performance e de que\, ao fim da dança\, talvez exista uma possibilidade de contato mágico\, ou místico\, com outras forças. \nDu désir d’horizons (Do desejo de horizontes)\, 2018\nEikon\, 2011\nFIX ME\, 2018\nHéroïne (Heroina)\, 2015\nGhazals\, 2012\nCLAY\, 2014 \n*Em colaboração com o CN D – Centro National de la Danse (França)  \n*Todos os filmes são legendados em português brasileiro\n \n  \nENTRADA FRANCA — 50% dos ingressos online pelo site do Sympla (a partir de 07 dias antes da sessão) e 50% na bilheteria\, 30 min antes. \nLimite de 2 ingressos por pessoa.
URL:https://2026.veraoarte.com.br/evento/mostra-de-filmes-da-colecao-portrait-cn-d/
LOCATION:Cine Santa Tereza\, R. Estrela do Sul\, 89 - Santa Teresa\, Belo Horizonte\, Minas Gerais\, Brasil
CATEGORIES:Cinema,Dança
ATTACH;FMTTYPE=image/jpeg:https://2026.veraoarte.com.br/wp-content/uploads/2026/01/01-Portrait-CND-Maguy-Marin-Cred.-Tim-Douet-Pequeno.jpg
END:VEVENT
BEGIN:VEVENT
DTSTART;TZID=America/Bahia:20260128T170000
DTEND;TZID=America/Bahia:20260128T190000
DTSTAMP:20260420T003010
CREATED:20260110T051155Z
LAST-MODIFIED:20260115T022821Z
UID:4086-1769619600-1769626800@2026.veraoarte.com.br
SUMMARY:Sistema K • Dir. Renaud Barret • França • Documentário • 2018 • 94 min
DESCRIPTION:“Sistema K” como Kinshasa. No meio do indescritível caos social e político\, uma cena contemporânea efervescente criada a partir do nada\, grita sua ira e sonha com o reconhecimento. Apesar da ameaça das autoridades e das dificuldades pessoais dos artistas\, o movimento invade a rua e nada mais vai interrompê-lo! \nIngressos\nENTRADA FRANCA — 50% dos ingressos online pelo site do Sympla (a partir de 07 dias antes da sessão) e 50% na bilheteria\, 30 min antes. \nLimite de 2 ingressos por pessoa. \n \n 
URL:https://2026.veraoarte.com.br/evento/sistema-k-dir-renaud-barret-franca-documentario-2018-94-min-2/
LOCATION:Cine Santa Tereza\, R. Estrela do Sul\, 89 - Santa Teresa\, Belo Horizonte\, Minas Gerais\, Brasil
CATEGORIES:Cinema
ATTACH;FMTTYPE=image/png:https://2026.veraoarte.com.br/wp-content/uploads/2026/01/Sistema-K-scaled.png
END:VEVENT
BEGIN:VEVENT
DTSTART;VALUE=DATE:20260131
DTEND;VALUE=DATE:20260222
DTSTAMP:20260420T003010
CREATED:20260110T052334Z
LAST-MODIFIED:20260115T023105Z
UID:4097-1769817600-1771718399@2026.veraoarte.com.br
SUMMARY:Exposição (Re) Conheça
DESCRIPTION:SINOPSE:  \nA exposição (Re) conheça promove um encontro potente entre a produção do diretor de arte\, pesquisador de arte urbana e fotógrafo Alonso Pafyeze e a arte visceral de Goma\, um dos principais nomes do pixo e do graffiti no Brasil. A partir de imagens que registram o cotidiano urbano — com destaque para a série do surf de ônibus — e de intervenções que revelam uma trajetória marcada por risco\, enfrentamento e resistência\, a mostra constrói um diálogo direto com a cidade como território de disputa e criação. Goma ocupa o espaço expositivo com pixos em múltiplas caligrafias\, suportes e materiais\, além de uma instalação impactante que remete aos períodos de encarceramento do artista\, evidenciando a criminalização histórica do pixo. Entre corpo\, altura\, movimento e confronto\, fotografia e pichação se cruzam como práticas de ocupação e sobrevivência\, revelando a cidade como suporte\, obstáculo e memória viva das ruas e das periferias. \nFICHA TÉCNICA:  \nCuradoria: Alonso Pafyeze e Goma \nProdução: Tefa\, Goma e Alonso Pafyeze \nInstagram: @pafyeze @goma_bh \n  \n*Abertura da exposição no dia 31 de janeiro (sábado) às 16h.
URL:https://2026.veraoarte.com.br/evento/re-conheca/
LOCATION:Funarte MG\, Rua Januária 68\, Centro\, Belo Horizonte\, Minas Gerais\, 30110-055\, Brazil
CATEGORIES:Artes Visuais
ATTACH;FMTTYPE=image/png:https://2026.veraoarte.com.br/wp-content/uploads/2026/01/02-A-rua-tem-suas-proprias-regras-Cred.-Frame-da-serie-MAP-Grande.png
END:VEVENT
END:VCALENDAR