BEGIN:VCALENDAR
VERSION:2.0
PRODID:-//Verão Arte 2026 - ECPv6.15.20//NONSGML v1.0//EN
CALSCALE:GREGORIAN
METHOD:PUBLISH
X-WR-CALNAME:Verão Arte 2026
X-ORIGINAL-URL:https://2026.veraoarte.com.br
X-WR-CALDESC:Eventos para Verão Arte 2026
REFRESH-INTERVAL;VALUE=DURATION:PT1H
X-Robots-Tag:noindex
X-PUBLISHED-TTL:PT1H
BEGIN:VTIMEZONE
TZID:America/Bahia
BEGIN:STANDARD
TZOFFSETFROM:-0300
TZOFFSETTO:-0300
TZNAME:-03
DTSTART:20250101T000000
END:STANDARD
END:VTIMEZONE
BEGIN:VEVENT
DTSTART;VALUE=DATE:20260120
DTEND;VALUE=DATE:20260401
DTSTAMP:20260420T003242
CREATED:20260110T052611Z
LAST-MODIFIED:20260115T023123Z
UID:4099-1768867200-1775001599@2026.veraoarte.com.br
SUMMARY:Exposição Arte\, cultura\, natureza: clima e crise
DESCRIPTION:SINOPSE:  \nÉ o primeiro evento da programação que se iniciou em dezembro de 2025 com mostra coletiva no iPMB\, reunindo 7 artistas visuais mineiros de diferentes gerações e linguagens\, que abordam a questão da devastação ambiental. Louise Ganz\, Celso Renato\, Roberto Vieira\, Pedro Motta\, Leandro Gabriel\, Daniel Moreira e Davi de Jesus do Nascimento são reunidos a partir do conceito de Antropoceno. Segue exposição\, em 2026\, no Viaduto das Artes e encontro na Academia Mineira de Letras\, reunindo um artista\, um filósofo e representante de movimentos sociais. \nFICHA TÉCNICA:  \nPromoção: Instituto Pedro Moraleida Bernardes\, Academia Mineira de Letras e Viaduto das Artes \nCurador da mostra: Augusto Nunes Filho \nMontagem: Daniel Moreira \nProdução: Luiz Bernardes e Nilcéa Moraleida. Inês Rabelo\, pela Academia Mineira de Letras \nArtistas: Louise Ganz\, Celso Renato\, Roberto Vieira\, Pedro Motta\, Leandro Gabriel\, Daniel Moreira e Davi de Jesus do Nascimento \nInstagram: @institutopedromoraleida
URL:https://2026.veraoarte.com.br/evento/arte-cultura-natureza-clima-e-crise/
CATEGORIES:Artes Visuais
ATTACH;FMTTYPE=image/jpeg:https://2026.veraoarte.com.br/wp-content/uploads/2026/01/Louise-Ganz_Murundu_2023_foto-Daniel-Mansur-Medio.jpg
END:VEVENT
BEGIN:VEVENT
DTSTART;VALUE=DATE:20260131
DTEND;VALUE=DATE:20260222
DTSTAMP:20260420T003242
CREATED:20260110T052334Z
LAST-MODIFIED:20260115T023105Z
UID:4097-1769817600-1771718399@2026.veraoarte.com.br
SUMMARY:Exposição (Re) Conheça
DESCRIPTION:SINOPSE:  \nA exposição (Re) conheça promove um encontro potente entre a produção do diretor de arte\, pesquisador de arte urbana e fotógrafo Alonso Pafyeze e a arte visceral de Goma\, um dos principais nomes do pixo e do graffiti no Brasil. A partir de imagens que registram o cotidiano urbano — com destaque para a série do surf de ônibus — e de intervenções que revelam uma trajetória marcada por risco\, enfrentamento e resistência\, a mostra constrói um diálogo direto com a cidade como território de disputa e criação. Goma ocupa o espaço expositivo com pixos em múltiplas caligrafias\, suportes e materiais\, além de uma instalação impactante que remete aos períodos de encarceramento do artista\, evidenciando a criminalização histórica do pixo. Entre corpo\, altura\, movimento e confronto\, fotografia e pichação se cruzam como práticas de ocupação e sobrevivência\, revelando a cidade como suporte\, obstáculo e memória viva das ruas e das periferias. \nFICHA TÉCNICA:  \nCuradoria: Alonso Pafyeze e Goma \nProdução: Tefa\, Goma e Alonso Pafyeze \nInstagram: @pafyeze @goma_bh \n  \n*Abertura da exposição no dia 31 de janeiro (sábado) às 16h.
URL:https://2026.veraoarte.com.br/evento/re-conheca/
LOCATION:Funarte MG\, Rua Januária 68\, Centro\, Belo Horizonte\, Minas Gerais\, 30110-055\, Brazil
CATEGORIES:Artes Visuais
ATTACH;FMTTYPE=image/png:https://2026.veraoarte.com.br/wp-content/uploads/2026/01/02-A-rua-tem-suas-proprias-regras-Cred.-Frame-da-serie-MAP-Grande.png
END:VEVENT
END:VCALENDAR